BEGIN:VCALENDAR
VERSION:2.0
PRODID:-//Tukios.com/
BEGIN:VEVENT
UID:ad0d93e8-05b5-4650-bf43-b29666c55fe7@www.roberts-hartfuneralhome.com
DTSTAMP:20260424T194458Z
DTSTART:20260427T170000Z
DTEND:20260427T190000Z
SUMMARY:Visitation
DESCRIPTION:
URL:https://www.roberts-hartfuneralhome.com/obituaries/eva-poindexter
LOCATION:    OK 
GEO:35.0077519;-97.092877
END:VEVENT
END:VCALENDAR