BEGIN:VCALENDAR
VERSION:2.0
PRODID:-//Tukios.com/
BEGIN:VEVENT
UID:7d295ecd-5d28-4a5b-bf31-93c37bae8d4d@www.roberts-hartfuneralhome.com
DTSTAMP:20260424T194804Z
DTSTART:20260427T190000Z
DTEND:20260427T200000Z
SUMMARY:Graveside Service
DESCRIPTION:
URL:https://www.roberts-hartfuneralhome.com/obituaries/eva-poindexter
LOCATION:    OK 
GEO:35.0077519;-97.092877
END:VEVENT
END:VCALENDAR